BEGIN:VCALENDAR
VERSION:2.0
PRODID:-//ChamberMaster//Event Calendar 2.0//EN
METHOD:PUBLISH
X-PUBLISHED-TTL:P3D
REFRESH-INTERVAL:P3D
CALSCALE:GREGORIAN
BEGIN:VEVENT
DTSTART:20260815T200000Z
DTEND:20260815T220000Z
X-MICROSOFT-CDO-ALLDAYEVENT:FALSE
SUMMARY:An Afternoon of Elegance: Bridgerton-Inspired English Tea Experience
DESCRIPTION:
X-ALT-DESC;FMTTYPE=text/html:
LOCATION:1123 Sparta Street\, McMinnville
UID:e.1486.8644
SEQUENCE:3
DTSTAMP:20260421T151120Z
URL:https://www.warrentn.com/events/details/an-afternoon-of-elegance-bridgerton-inspired-english-tea-experience-8644
END:VEVENT

END:VCALENDAR
